BEGIN:VCALENDAR
VERSION:2.0
PRODID:-//RIGHTHERE//CALENDARIZE IT V3.2//EN
BEGIN:VEVENT
UID:18397-events@villageoflindenhurstny.gov
DTSTART:20260626T193000Z
DTEND:20260626T220000Z
DTSTAMP:20260325T183004Z
SUMMARY:Summer Concert Series
RDATE;VALUE=PERIOD:20260627T193000/20260627T220000,20260703T193000/20260703
 T220000,20260704T193000/20260704T220000,20260710T193000/20260710T220000,20
  260711T193000/20260711T220000,20260717T193000/20260717T220000,20260718T19
   3000/20260718T220000,20260724T193000/20260724T220000,20260725T193000/202
    60725T220000,20260731T193000/20260731T220000,20260801T143000/20260801T2
     20000,20260807T193000/20260807T220000,20260808T193000/20260808T220000,
      20260814T193000/20260814T220000,20260815T193000/20260815T220000,20260
       821T193000/20260821T220000,20260822T193000/20260822T220000,20260828T
        193000/20260828T220000,20260829T193000/20260829T220000,20260904T193
         000/20260904T220000,20260905T193000/20260905T220000,20260911T19300
          0/20260911T220000,20260912T193000/20260912T220000,20260918T193000
           /20260918T220000,20260919T193000/20260919T220000,20260925T193000
            /20260925T220000,20260926T143000/20260926T220000
URL:https://villageoflindenhurstny.gov/events/summer-concert-series-3/
ORGANIZER;CN=Business Improvement District:
LOCATION:Lindenhurst Village Square
END:VEVENT
END:VCALENDAR