BEGIN:VCALENDAR
VERSION:2.0
PRODID:-//RIGHTHERE//CALENDARIZE IT V3.2//EN
BEGIN:VEVENT
UID:16890-events@villageoflindenhurstny.gov
DTSTART:20240607T170000Z
DTEND:20240607T210000Z
DTSTAMP:20240528T135952Z
SUMMARY:Taste of Lindenhurst
URL:https://villageoflindenhurstny.gov/events/taste-of-lindenhurst/
END:VEVENT
END:VCALENDAR