BEGIN:VCALENDAR
VERSION:2.0
PRODID:-//RIGHTHERE//CALENDARIZE IT V3.2//EN
BEGIN:VEVENT
UID:16803-events@villageoflindenhurstny.gov
DTSTART:20240520T183000Z
DTEND:20240520T000000Z
DTSTAMP:20240506T190722Z
SUMMARY:21st Community Fellowship Dinner
URL:https://villageoflindenhurstny.gov/events/21st-community-fellowship-din
 ner/
ORGANIZER;CN=Kiwanis Club of Lindenhurst:
END:VEVENT
END:VCALENDAR