BEGIN:VCALENDAR
VERSION:2.0
PRODID:-//RIGHTHERE//CALENDARIZE IT V3.2//EN
BEGIN:VEVENT
UID:15316-events@villageoflindenhurstny.gov
DTSTART:20230305T090000Z
DTEND:20230305T120000Z
DTSTAMP:20230209T201652Z
SUMMARY:30th Annual Mayor’s Beautification Society Pancake Breakfast
URL:https://villageoflindenhurstny.gov/events/30th-annual-mayors-beautifica
 tion-society-pancake-breakfast/
END:VEVENT
END:VCALENDAR