BEGIN:VCALENDAR
VERSION:2.0
PRODID:-//RIGHTHERE//CALENDARIZE IT V3.2//EN
BEGIN:VEVENT
UID:13911-events@villageoflindenhurstny.gov
DTSTART:20220621T143000Z
DTEND:20220621T000000Z
DTSTAMP:20220513T160304Z
SUMMARY:Village Board Meeting – Public Session
URL:https://villageoflindenhurstny.gov/events/village-board-public-meeting/
LOCATION:Lindenhurst Village Hall
END:VEVENT
END:VCALENDAR